BEGIN:VCALENDAR
VERSION:2.0
PRODID:-//Healthy Indoors - ECPv5.1.6//NONSGML v1.0//EN
CALSCALE:GREGORIAN
METHOD:PUBLISH
X-WR-CALNAME:Healthy Indoors
X-ORIGINAL-URL:https://healthyindoors.com
X-WR-CALDESC:Events for Healthy Indoors
BEGIN:VTIMEZONE
TZID:UTC
BEGIN:STANDARD
TZOFFSETFROM:+0000
TZOFFSETTO:+0000
TZNAME:UTC
DTSTART:20180101T000000
END:STANDARD
END:VTIMEZONE
BEGIN:VEVENT
DTSTART;VALUE=DATE:20181019
DTEND;VALUE=DATE:20181020
DTSTAMP:20260420T050416
CREATED:20180901T053555Z
LAST-MODIFIED:20180901T060110Z
UID:2979-1539907200-1539993599@healthyindoors.com
SUMMARY:EIA 2018 Fall Technical Seminar
DESCRIPTION:This one-day multi-disciplinary technical seminar features industry experts presenting on regional and national issues in the area of asbestos\, indoor air quality\, EMS/ESA\, lead and sampling and analytical.
URL:https://healthyindoors.com/event/eia-2018-fall-technical-seminar/
LOCATION:Hyatt Regency Miami Downtown\, 400 SE 2nd Avenue\, Miami\, FL\, 33131\, United States
ORGANIZER;CN="Environmental%20Information%20Association":MAILTO:info@eia-usa.org
END:VEVENT
END:VCALENDAR