BEGIN:VCALENDAR
VERSION:2.0
PRODID:-//Healthy Indoors - ECPv5.1.6//NONSGML v1.0//EN
CALSCALE:GREGORIAN
METHOD:PUBLISH
X-WR-CALNAME:Healthy Indoors
X-ORIGINAL-URL:https://healthyindoors.com
X-WR-CALDESC:Events for Healthy Indoors
BEGIN:VTIMEZONE
TZID:UTC
BEGIN:STANDARD
TZOFFSETFROM:+0000
TZOFFSETTO:+0000
TZNAME:UTC
DTSTART:20190101T000000
END:STANDARD
END:VTIMEZONE
BEGIN:VEVENT
DTSTART;VALUE=DATE:20190324
DTEND;VALUE=DATE:20190329
DTSTAMP:20260419T205410
CREATED:20181129T124922Z
LAST-MODIFIED:20190127T223913Z
UID:3060-1553385600-1553817599@healthyindoors.com
SUMMARY:EIA 2019 National Conference & Exhibition
DESCRIPTION:We invite you to join us in Miami\, to the only conference you’ll need all year. The Annual EIA Conference & Exposition is the source for information on mold identification and remediation\, environmental sampling and analysis\, lead-based paint abatement\, asbestos management\, indoor air quality\, regulatory compliance audits\, environmental site assessments\, and environmental management systems. \nMarch 23 – 27\, 2019 \nEIA’s National Conference has long earned our attendees continuing education points from ABIH\, ACAC and other certifying bodies. Information generation\, collection and dissemination is our primary focus. Therefore\, we strive to ensure that practical\, real world information will be provided to those who need it most – your fellow industry professionals and potential clients.
URL:https://healthyindoors.com/event/eia-2019-national-conference-exhibition/
LOCATION:Hyatt Regency Downtown Miam\, 400 SE 2nd Avenue\, Miami\, FL\, 33131\, United States
ATTACH;FMTTYPE=image/jpeg:https://healthyindoors.com/wp-content/uploads/2019/01/2019-01-27_12-20-51.jpg
ORGANIZER;CN="Environmental%20Information%20Association":MAILTO:info@eia-usa.org
END:VEVENT
END:VCALENDAR