BEGIN:VCALENDAR
VERSION:2.0
PRODID:-//Healthy Indoors - ECPv5.1.6//NONSGML v1.0//EN
CALSCALE:GREGORIAN
METHOD:PUBLISH
X-WR-CALNAME:Healthy Indoors
X-ORIGINAL-URL:https://healthyindoors.com
X-WR-CALDESC:Events for Healthy Indoors
BEGIN:VTIMEZONE
TZID:UTC
BEGIN:STANDARD
TZOFFSETFROM:+0000
TZOFFSETTO:+0000
TZNAME:UTC
DTSTART:20200101T000000
END:STANDARD
END:VTIMEZONE
BEGIN:VEVENT
DTSTART;VALUE=DATE:20200119
DTEND;VALUE=DATE:20200123
DTSTAMP:20260419T221631
CREATED:20190828T001911Z
LAST-MODIFIED:20190828T002332Z
UID:3424-1579392000-1579737599@healthyindoors.com
SUMMARY:InspectionWorld 2020 - ASHI
DESCRIPTION:American Society of Home Inspectors (ASHI) Conference & Expo
URL:https://healthyindoors.com/event/inspectionworld-2020-ashi/
LOCATION:Hyatt Regency New Orleans\, New Orleans\, LA
ATTACH;FMTTYPE=image/jpeg:https://healthyindoors.com/wp-content/uploads/2019/08/2019-08-27_16-06-13.jpg
ORGANIZER;CN="American%20Society%20of%20Home%20Inspectors%20%28ASHI%29%2C%20Inc.":MAILTO:Membership@ashi.org
END:VEVENT
END:VCALENDAR